BEGIN:VCALENDAR
PRODID:-//eluceo/ical//2.0/EN
VERSION:2.0
CALSCALE:GREGORIAN
BEGIN:VEVENT
UID:5b3a1ec1c4c193e2d1a01a43ec910040
DTSTAMP:20260421T025611Z
SUMMARY:Annual Polaris meeting 2024 in Brussels
DESCRIPTION:Webseite: https://www.hotelbrusselsairport.com/\nReferenten/inn
 en: \nJan Trnka - Polaris product manager and IT responsible Marion de Lat
 tre Wiesel - Polaris Team memberChristian Mayer - Polaris Team memberHotel
  location: https://maps.app.goo.gl/H5Bc7bDQVpjw9dmZ9
URL:https://team.polaris.rotary.ch/de/agenda/show/180049
DTSTART;TZID=Europe/Zurich:20241118T090000
DTEND;TZID=Europe/Zurich:20241118T163000
LOCATION:Van der Valk Hotel Brussels Airport\, Culliganlaan 4b\, 1831 Diege
 m
CATEGORIES:Rotary
END:VEVENT
BEGIN:VTIMEZONE
TZID:Europe/Zurich
BEGIN:STANDARD
DTSTART:20241118T090000
TZNAME:CET
TZOFFSETTO:+0100
TZOFFSETFROM:+0100
END:STANDARD
END:VTIMEZONE
END:VCALENDAR
