BEGIN:VCALENDAR
PRODID:-//eluceo/ical//2.0/EN
VERSION:2.0
CALSCALE:GREGORIAN
BEGIN:VEVENT
UID:dd3d246f32ce273e73edb3500107adb1
DTSTAMP:20260421T010615Z
SUMMARY:Annual Polaris meeting 2024 in Barcelona
DESCRIPTION:Webseite: https://www.granhotelhavana.com/\nReferenten/innen: \
 nJan Trnka - Polaris product manager and IT responsible Marion de Lattre W
 iesel - Polaris Team member
URL:https://team.polaris.rotary.ch/de/agenda/show/185515
DTSTART;TZID=Europe/Zurich:20241125T093000
DTEND;TZID=Europe/Zurich:20241125T163000
LOCATION:Gran Hotel Havana
CATEGORIES:Rotary
END:VEVENT
BEGIN:VTIMEZONE
TZID:Europe/Zurich
BEGIN:STANDARD
DTSTART:20241125T093000
TZNAME:CET
TZOFFSETTO:+0100
TZOFFSETFROM:+0100
END:STANDARD
END:VTIMEZONE
END:VCALENDAR
