BEGIN:VCALENDAR
PRODID:-//eluceo/ical//2.0/EN
VERSION:2.0
CALSCALE:GREGORIAN
BEGIN:VEVENT
UID:8f21142264bacb8eb9916a4762992cff
DTSTAMP:20260421T125742Z
SUMMARY:Kommissions-Diskussion
DESCRIPTION:Referenten/innen: Leiter Dienste RC Forch - Besprechung von neu
 en Projekten\, unter Leitung von Präsident Martin Bircher
URL:https://rotary-forch.ch/de/agenda/show/34999
DTSTART;TZID=Europe/Zurich:20140122T120000
DTEND;TZID=Europe/Zurich:20140122T120000
LOCATION:Restaurant Schifflände
CATEGORIES:Rotary
END:VEVENT
BEGIN:VTIMEZONE
TZID:Europe/Zurich
BEGIN:STANDARD
DTSTART:20140122T120000
TZNAME:CET
TZOFFSETTO:+0100
TZOFFSETFROM:+0100
END:STANDARD
END:VTIMEZONE
END:VCALENDAR
