BEGIN:VCALENDAR
PRODID:-//eluceo/ical//2.0/EN
VERSION:2.0
CALSCALE:GREGORIAN
BEGIN:VEVENT
UID:dbb00dbbf68b010cccd88dd547f69357
DTSTAMP:20260423T120024Z
SUMMARY:Plauderlunch
DESCRIPTION:
URL:https://rotary-forch.ch/es/agenda/show/35047
DTSTART;TZID=Europe/Zurich:20140430T120000
DTEND;TZID=Europe/Zurich:20140430T120000
LOCATION:Restaurant Schifflände
CATEGORIES:Rotary
END:VEVENT
BEGIN:VTIMEZONE
TZID:Europe/Zurich
BEGIN:DAYLIGHT
DTSTART:20140430T120000
TZNAME:CEST
TZOFFSETTO:+0200
TZOFFSETFROM:+0200
END:DAYLIGHT
END:VTIMEZONE
END:VCALENDAR
