BEGIN:VCALENDAR
PRODID:-//eluceo/ical//2.0/EN
VERSION:2.0
CALSCALE:GREGORIAN
BEGIN:VEVENT
UID:b0e71961dca828432484608ba6d45ef8
DTSTAMP:20260419T120840Z
SUMMARY:Orientierung Vorstandssitzung
DESCRIPTION:Interner Lunch\nOrador(es): Clubpräsident Martin Bircher
URL:https://rotary-forch.ch/es/agenda/show/35055
DTSTART;TZID=Europe/Zurich:20140528T120000
DTEND;TZID=Europe/Zurich:20140528T120000
LOCATION:Restaurant Schifflände
CATEGORIES:Rotary
END:VEVENT
BEGIN:VTIMEZONE
TZID:Europe/Zurich
BEGIN:DAYLIGHT
DTSTART:20140528T120000
TZNAME:CEST
TZOFFSETTO:+0200
TZOFFSETFROM:+0200
END:DAYLIGHT
END:VTIMEZONE
END:VCALENDAR
