BEGIN:VCALENDAR
PRODID:-//eluceo/ical//2.0/EN
VERSION:2.0
CALSCALE:GREGORIAN
BEGIN:VEVENT
UID:389ff9ffe44b99031b4184a9ef7517cc
DTSTAMP:20260423T123745Z
SUMMARY:Grüninger Frühlingsmarkt / Wunschlämpli aus Stein gestalten
DESCRIPTION:
URL:https://rotary-forch.ch/es/agenda/show/42593
DTSTART;TZID=Europe/Zurich:20150425T000000
DTEND;TZID=Europe/Zurich:20150425T000000
LOCATION:Grüninger Frühlingsmarkt
CATEGORIES:Rotary
END:VEVENT
BEGIN:VTIMEZONE
TZID:Europe/Zurich
BEGIN:DAYLIGHT
DTSTART:20150425T000000
TZNAME:CEST
TZOFFSETTO:+0200
TZOFFSETFROM:+0200
END:DAYLIGHT
END:VTIMEZONE
END:VCALENDAR
