BEGIN:VCALENDAR
PRODID:-//eluceo/ical//2.0/EN
VERSION:2.0
CALSCALE:GREGORIAN
BEGIN:VEVENT
UID:79117ac42c5d8944f6ce7e47fd5d61b4
DTSTAMP:20260421T145242Z
SUMMARY:Entwicklung der Katadyn - Gruppe\, Rot. Adrian Schmassmann
DESCRIPTION:Orador(es): Rot. Adrian Schmassmann\, RC Forch\, VR der Katadyn
 -Gruppe
URL:https://rotary-forch.ch/es/agenda/show/52363
DTSTART;TZID=Europe/Zurich:20151111T000000
DTEND;TZID=Europe/Zurich:20151111T000000
LOCATION:Restaurant Schifflände
CATEGORIES:Rotary
END:VEVENT
BEGIN:VTIMEZONE
TZID:Europe/Zurich
BEGIN:STANDARD
DTSTART:20151111T000000
TZNAME:CET
TZOFFSETTO:+0100
TZOFFSETFROM:+0100
END:STANDARD
END:VTIMEZONE
END:VCALENDAR
