BEGIN:VCALENDAR
PRODID:-//eluceo/ical//2.0/EN
VERSION:2.0
CALSCALE:GREGORIAN
BEGIN:VEVENT
UID:b5a9c3c723386e4efacf7e27df0b8e73
DTSTAMP:20260425T162749Z
SUMMARY:Plauderlunch (Sportferien)
DESCRIPTION:
URL:https://rotary-forch.ch/es/agenda/show/78672
DTSTART;TZID=Europe/Zurich:20180214T120000
DTEND;TZID=Europe/Zurich:20180214T120000
LOCATION:Restaurant Schifflände
CATEGORIES:Rotary
END:VEVENT
BEGIN:VTIMEZONE
TZID:Europe/Zurich
BEGIN:STANDARD
DTSTART:20180214T120000
TZNAME:CET
TZOFFSETTO:+0100
TZOFFSETFROM:+0100
END:STANDARD
END:VTIMEZONE
END:VCALENDAR
