BEGIN:VCALENDAR
PRODID:-//eluceo/ical//2.0/EN
VERSION:2.0
CALSCALE:GREGORIAN
BEGIN:VEVENT
UID:34e99c2d760ff76b59a3b79dab89a65b
DTSTAMP:20260425T175959Z
SUMMARY:Plauderlunch (Sportferien)
DESCRIPTION:
URL:https://rotary-forch.ch/es/agenda/show/78673
DTSTART;TZID=Europe/Zurich:20180221T120000
DTEND;TZID=Europe/Zurich:20180221T120000
LOCATION:Restaurant Schifflände
CATEGORIES:Rotary
END:VEVENT
BEGIN:VTIMEZONE
TZID:Europe/Zurich
BEGIN:STANDARD
DTSTART:20180221T120000
TZNAME:CET
TZOFFSETTO:+0100
TZOFFSETFROM:+0100
END:STANDARD
END:VTIMEZONE
END:VCALENDAR
