BEGIN:VCALENDAR
PRODID:-//eluceo/ical//2.0/EN
VERSION:2.0
CALSCALE:GREGORIAN
BEGIN:VEVENT
UID:fa8f03b5432a479d10e969939fc5fe2a
DTSTAMP:20260425T002508Z
SUMMARY:Lunch mit Referat Verein ROBIJ
DESCRIPTION:Site internet: https://www.rotary-forch.ch/de/activities/letter
 s/2686/neues-clublokal-am-30092020-bis-auf-weiteres\nConférencier(s): Mar
 ianne Hobsch
URL:https://rotary-forch.ch/fr/agenda/show/133879
DTSTART;TZID=Europe/Zurich:20211110T120000
DTEND;TZID=Europe/Zurich:20211110T133000
LOCATION:Greifenseeschiff SGG (Landesteg)\, Murmer Seeweg\, 8124 Maur
CATEGORIES:Rotary
END:VEVENT
BEGIN:VTIMEZONE
TZID:Europe/Zurich
BEGIN:STANDARD
DTSTART:20211110T120000
TZNAME:CET
TZOFFSETTO:+0100
TZOFFSETFROM:+0100
END:STANDARD
END:VTIMEZONE
END:VCALENDAR
