BEGIN:VCALENDAR
PRODID:-//eluceo/ical//2.0/EN
VERSION:2.0
CALSCALE:GREGORIAN
BEGIN:VEVENT
UID:d7a47af8ecb9fd222366ad8bd27bdade
DTSTAMP:20260425T103343Z
SUMMARY:Der (Wein)-Berg ruft
DESCRIPTION:
URL:https://rotary-forch.ch/fr/agenda/show/196891
DTSTART;TZID=Europe/Zurich:20250916T160000
DTEND;TZID=Europe/Zurich:20250916T200000
LOCATION:Gem. separatem Programm
CATEGORIES:Rotary
END:VEVENT
BEGIN:VTIMEZONE
TZID:Europe/Zurich
BEGIN:DAYLIGHT
DTSTART:20250916T160000
TZNAME:CEST
TZOFFSETTO:+0200
TZOFFSETFROM:+0200
END:DAYLIGHT
END:VTIMEZONE
END:VCALENDAR
