BEGIN:VCALENDAR
PRODID:-//eluceo/ical//2.0/EN
VERSION:2.0
CALSCALE:GREGORIAN
BEGIN:VEVENT
UID:d818fd5bdabfe217f0f0d7f97ad3526f
DTSTAMP:20260420T171121Z
SUMMARY:Lunch
DESCRIPTION:Site internet: https://www.waldmannsburg.ch/restaurant-waldmann
 sburg.html
URL:https://rotary-forch.ch/fr/agenda/show/208600
DTSTART;TZID=Europe/Zurich:20260319T120000
DTEND;TZID=Europe/Zurich:20260319T133000
LOCATION:Rest. Waldmannsburg\, Schloss Strasse 86\, 8600 Dübendorf\, Schwe
 iz
CATEGORIES:Rotary
END:VEVENT
BEGIN:VTIMEZONE
TZID:Europe/Zurich
BEGIN:STANDARD
DTSTART:20260319T120000
TZNAME:CET
TZOFFSETTO:+0100
TZOFFSETFROM:+0100
END:STANDARD
END:VTIMEZONE
END:VCALENDAR
