BEGIN:VCALENDAR
PRODID:-//eluceo/ical//2.0/EN
VERSION:2.0
CALSCALE:GREGORIAN
BEGIN:VEVENT
UID:e7c03309f0e45a8282a0bb6b02e0b963
DTSTAMP:20260420T124925Z
SUMMARY:Lunch
DESCRIPTION:Site internet: https://www.waldmannsburg.ch/restaurant-waldmann
 sburg.html
URL:https://rotary-forch.ch/fr/agenda/show/208613
DTSTART;TZID=Europe/Zurich:20260521T120000
DTEND;TZID=Europe/Zurich:20260521T133000
LOCATION:Rest. Waldmannsburg\, Schloss Strasse 86\, 8600 Dübendorf\, Schwe
 iz
CATEGORIES:Rotary
END:VEVENT
BEGIN:VTIMEZONE
TZID:Europe/Zurich
BEGIN:DAYLIGHT
DTSTART:20260521T120000
TZNAME:CEST
TZOFFSETTO:+0200
TZOFFSETFROM:+0200
END:DAYLIGHT
END:VTIMEZONE
END:VCALENDAR
