BEGIN:VCALENDAR
PRODID:-//eluceo/ical//2.0/EN
VERSION:2.0
CALSCALE:GREGORIAN
BEGIN:VEVENT
UID:284a3fbd4eb5ea5d4e1d57d531c11393
DTSTAMP:20260421T080831Z
SUMMARY:Detektive in weiss: Rechtsmedizin heute
DESCRIPTION:Conférencier(s): Prof. Dr. med. Walter Bär
URL:https://rotary-forch.ch/fr/agenda/show/33012
DTSTART;TZID=Europe/Zurich:20130821T120000
DTEND;TZID=Europe/Zurich:20130821T120000
LOCATION:Restaurant Schifflände
CATEGORIES:Rotary
END:VEVENT
BEGIN:VTIMEZONE
TZID:Europe/Zurich
BEGIN:DAYLIGHT
DTSTART:20130821T120000
TZNAME:CEST
TZOFFSETTO:+0200
TZOFFSETFROM:+0200
END:DAYLIGHT
END:VTIMEZONE
END:VCALENDAR
