BEGIN:VCALENDAR
PRODID:-//eluceo/ical//2.0/EN
VERSION:2.0
CALSCALE:GREGORIAN
BEGIN:VEVENT
UID:ee77cdf58e2e2c5f31e2bcf8e37f4d6a
DTSTAMP:20260419T122217Z
SUMMARY:Ideen für die Schweiz
DESCRIPTION:Conférencier(s): Andr. Müller von Avenir Suisse
URL:https://rotary-forch.ch/fr/agenda/show/35040
DTSTART;TZID=Europe/Zurich:20140319T120000
DTEND;TZID=Europe/Zurich:20140319T120000
LOCATION:Restaurant Schifflände
CATEGORIES:Rotary
END:VEVENT
BEGIN:VTIMEZONE
TZID:Europe/Zurich
BEGIN:STANDARD
DTSTART:20140319T120000
TZNAME:CET
TZOFFSETTO:+0100
TZOFFSETFROM:+0100
END:STANDARD
END:VTIMEZONE
END:VCALENDAR
