BEGIN:VCALENDAR
PRODID:-//eluceo/ical//2.0/EN
VERSION:2.0
CALSCALE:GREGORIAN
BEGIN:VEVENT
UID:9eed5d5b24c802f3082c7801cb75bf52
DTSTAMP:20260424T200610Z
SUMMARY:Aufnahmefeier
DESCRIPTION:Wir feiern die Aufnahme unseres neuen Mitglieds. Musikalischer 
 Leckerbissen: Cellomusik von vier ganz jungen MusikerInnen.
URL:https://rotary-forch.ch/fr/agenda/show/42578
DTSTART;TZID=Europe/Zurich:20150128T190000
DTEND;TZID=Europe/Zurich:20150128T190000
LOCATION:Restaurant Schifflände
CATEGORIES:Rotary
END:VEVENT
BEGIN:VTIMEZONE
TZID:Europe/Zurich
BEGIN:STANDARD
DTSTART:20150128T190000
TZNAME:CET
TZOFFSETTO:+0100
TZOFFSETFROM:+0100
END:STANDARD
END:VTIMEZONE
END:VCALENDAR
