BEGIN:VCALENDAR
PRODID:-//eluceo/ical//2.0/EN
VERSION:2.0
CALSCALE:GREGORIAN
BEGIN:VEVENT
UID:5d4b9d28f3e583598548ac64b07f7c7f
DTSTAMP:20260423T124336Z
SUMMARY:Aerztliche Kunstfehler
DESCRIPTION:Relatore/i: Adrian Kaegi\, Staatsanwalt
URL:https://rotary-forch.ch/it/agenda/show/33031
DTSTART;TZID=Europe/Zurich:20130918T120000
DTEND;TZID=Europe/Zurich:20130918T120000
LOCATION:Restaurant Schifflände
CATEGORIES:Rotary
END:VEVENT
BEGIN:VTIMEZONE
TZID:Europe/Zurich
BEGIN:DAYLIGHT
DTSTART:20130918T120000
TZNAME:CEST
TZOFFSETTO:+0200
TZOFFSETFROM:+0200
END:DAYLIGHT
END:VTIMEZONE
END:VCALENDAR
