BEGIN:VCALENDAR
PRODID:-//eluceo/ical//2.0/EN
VERSION:2.0
CALSCALE:GREGORIAN
BEGIN:VEVENT
UID:7e85da8aa4ec2ff36a7ee32420d11e0d
DTSTAMP:20260425T104220Z
SUMMARY:Besuch Governor
DESCRIPTION:Website: https://www.waldmannsburg.ch/restaurant-waldmannsburg.
 html\nSprekers:   DG Andrea Weber  
URL:https://rotary-forch.ch/nl/agenda/show/196829
DTSTART;TZID=Europe/Zurich:20250807T120000
DTEND;TZID=Europe/Zurich:20250807T133000
LOCATION:Rest. Waldmannsburg\, Schloss Strasse 86\, 8600 Dübendorf\, Schwe
 iz
CATEGORIES:Rotary
END:VEVENT
BEGIN:VTIMEZONE
TZID:Europe/Zurich
BEGIN:DAYLIGHT
DTSTART:20250807T120000
TZNAME:CEST
TZOFFSETTO:+0200
TZOFFSETFROM:+0200
END:DAYLIGHT
END:VTIMEZONE
END:VCALENDAR
