BEGIN:VCALENDAR
PRODID:-//eluceo/ical//2.0/EN
VERSION:2.0
CALSCALE:GREGORIAN
BEGIN:VEVENT
UID:9b254a60384a44b4aa5777247db96d6a
DTSTAMP:20260425T121003Z
SUMMARY:Lunch ohne Referat
DESCRIPTION:Website: https://www.waldmannsburg.ch/restaurant-waldmannsburg.
 html
URL:https://rotary-forch.ch/nl/agenda/show/196831
DTSTART;TZID=Europe/Zurich:20250814T120000
DTEND;TZID=Europe/Zurich:20250814T133000
LOCATION:Rest. Waldmannsburg\, Schloss Strasse 86\, 8600 Dübendorf\, Schwe
 iz
CATEGORIES:Rotary
END:VEVENT
BEGIN:VTIMEZONE
TZID:Europe/Zurich
BEGIN:DAYLIGHT
DTSTART:20250814T120000
TZNAME:CEST
TZOFFSETTO:+0200
TZOFFSETFROM:+0200
END:DAYLIGHT
END:VTIMEZONE
END:VCALENDAR
