BEGIN:VCALENDAR
PRODID:-//eluceo/ical//2.0/EN
VERSION:2.0
CALSCALE:GREGORIAN
BEGIN:VEVENT
UID:f78b9975f05f991d9a1de22726e701ff
DTSTAMP:20260425T154307Z
SUMMARY:Lunch
DESCRIPTION:Website: https://www.waldmannsburg.ch/restaurant-waldmannsburg.
 html
URL:https://rotary-forch.ch/nl/agenda/show/196832
DTSTART;TZID=Europe/Zurich:20250821T120000
DTEND;TZID=Europe/Zurich:20250821T133000
LOCATION:Rest. Waldmannsburg\, Schloss Strasse 86\, 8600 Dübendorf\, Schwe
 iz
CATEGORIES:Rotary
END:VEVENT
BEGIN:VTIMEZONE
TZID:Europe/Zurich
BEGIN:DAYLIGHT
DTSTART:20250821T120000
TZNAME:CEST
TZOFFSETTO:+0200
TZOFFSETFROM:+0200
END:DAYLIGHT
END:VTIMEZONE
END:VCALENDAR
