BEGIN:VCALENDAR
PRODID:-//eluceo/ical//2.0/EN
VERSION:2.0
CALSCALE:GREGORIAN
BEGIN:VEVENT
UID:4b81e235d1862a1c51526331e47ad5d7
DTSTAMP:20260425T170925Z
SUMMARY:Kein Lunch\, da Abendanlass am 27.8.25
DESCRIPTION:
URL:https://rotary-forch.ch/nl/agenda/show/196886
DTSTART;TZID=Europe/Zurich:20250828T120000
DTEND;TZID=Europe/Zurich:20250828T133000
LOCATION:Kein Lunch
CATEGORIES:Rotary
END:VEVENT
BEGIN:VTIMEZONE
TZID:Europe/Zurich
BEGIN:DAYLIGHT
DTSTART:20250828T120000
TZNAME:CEST
TZOFFSETTO:+0200
TZOFFSETFROM:+0200
END:DAYLIGHT
END:VTIMEZONE
END:VCALENDAR
