BEGIN:VCALENDAR
PRODID:-//eluceo/ical//2.0/EN
VERSION:2.0
CALSCALE:GREGORIAN
BEGIN:VEVENT
UID:8f71e707538c2ffe8f8a4e85a98ba9a9
DTSTAMP:20260422T150522Z
SUMMARY:Lunch
DESCRIPTION:Website: https://www.waldmannsburg.ch/restaurant-waldmannsburg.
 html
URL:https://rotary-forch.ch/nl/agenda/show/196912
DTSTART;TZID=Europe/Zurich:20251120T120000
DTEND;TZID=Europe/Zurich:20251120T133000
LOCATION:Rest. Waldmannsburg\, Schloss Strasse 86\, 8600 Dübendorf\, Schwe
 iz
CATEGORIES:Rotary
END:VEVENT
BEGIN:VTIMEZONE
TZID:Europe/Zurich
BEGIN:STANDARD
DTSTART:20251120T120000
TZNAME:CET
TZOFFSETTO:+0100
TZOFFSETFROM:+0100
END:STANDARD
END:VTIMEZONE
END:VCALENDAR
