BEGIN:VCALENDAR
PRODID:-//eluceo/ical//2.0/EN
VERSION:2.0
CALSCALE:GREGORIAN
BEGIN:VEVENT
UID:b37f512d6c4150f3d8c0964fc41b1f46
DTSTAMP:20260419T122312Z
SUMMARY:Lunch mit Referat Roger Jenni: Verein VISITE
DESCRIPTION:Website: https://www.waldmannsburg.ch/restaurant-waldmannsburg.
 html\nSprekers: R. Jenny.Verein VISITE
URL:https://rotary-forch.ch/nl/agenda/show/208596
DTSTART;TZID=Europe/Zurich:20260226T120000
DTEND;TZID=Europe/Zurich:20260226T133000
LOCATION:Rest. Waldmannsburg\, Schloss Strasse 86\, 8600 Dübendorf\, Schwe
 iz
CATEGORIES:Rotary
END:VEVENT
BEGIN:VTIMEZONE
TZID:Europe/Zurich
BEGIN:STANDARD
DTSTART:20260226T120000
TZNAME:CET
TZOFFSETTO:+0100
TZOFFSETFROM:+0100
END:STANDARD
END:VTIMEZONE
END:VCALENDAR
