BEGIN:VCALENDAR
PRODID:-//eluceo/ical//2.0/EN
VERSION:2.0
CALSCALE:GREGORIAN
BEGIN:VEVENT
UID:5f4663e9c219bafb9bf60976f8c0e379
DTSTAMP:20260424T085744Z
SUMMARY:Lebensgeschichten aus Singapur
DESCRIPTION:Singapur - in dieser "Stadt der vielen Kulturen" leben Menschen
  mit den unterschiedlichsten beruflichen\, familiären und ethnischen Hint
 ergründen. Esther Pfister hat einige spannende Biografien heutiger Bewohn
 er in einem Buch nachgezeichnet. Im Referat berichtet sie von diesen Mensc
 hen und ihrer Arbeit.\nTalare: Esther Pfister
URL:https://rotary-forch.ch/sv/agenda/show/19087
DTSTART;TZID=Europe/Zurich:20111116T000000
DTEND;TZID=Europe/Zurich:20111116T000000
LOCATION:Restaurant Schifflände
CATEGORIES:Rotary
END:VEVENT
BEGIN:VTIMEZONE
TZID:Europe/Zurich
BEGIN:STANDARD
DTSTART:20111116T000000
TZNAME:CET
TZOFFSETTO:+0100
TZOFFSETFROM:+0100
END:STANDARD
END:VTIMEZONE
END:VCALENDAR
