BEGIN:VCALENDAR
PRODID:-//eluceo/ical//2.0/EN
VERSION:2.0
CALSCALE:GREGORIAN
BEGIN:VEVENT
UID:9e25f6fd2aacccd3844e971d105fab10
DTSTAMP:20260424T085027Z
SUMMARY:Informatik-Vertragsrecht am Beispiel der schweizerischen Finanzindu
 strie
DESCRIPTION:Klassifikationsvortrag\nTalare: Rot. Emil Neff
URL:https://rotary-forch.ch/sv/agenda/show/19677
DTSTART;TZID=Europe/Zurich:20120314T120000
DTEND;TZID=Europe/Zurich:20120314T120000
LOCATION:Restaurant Schifflände
CATEGORIES:Rotary
END:VEVENT
BEGIN:VTIMEZONE
TZID:Europe/Zurich
BEGIN:STANDARD
DTSTART:20120314T120000
TZNAME:CET
TZOFFSETTO:+0100
TZOFFSETFROM:+0100
END:STANDARD
END:VTIMEZONE
END:VCALENDAR
