BEGIN:VCALENDAR
PRODID:-//eluceo/ical//2.0/EN
VERSION:2.0
CALSCALE:GREGORIAN
BEGIN:VEVENT
UID:ae186ecf23f5763239cd64af7a12b287
DTSTAMP:20260424T085327Z
SUMMARY:Abendrundfahrt auf dem Greifensee
DESCRIPTION:
URL:https://rotary-forch.ch/sv/agenda/show/208612
DTSTART;TZID=Europe/Zurich:20260528T180000
DTEND;TZID=Europe/Zurich:20260528T210000
LOCATION:Schifflände Maur\, Greifensee Schifffahrt
CATEGORIES:Rotary
END:VEVENT
BEGIN:VTIMEZONE
TZID:Europe/Zurich
BEGIN:DAYLIGHT
DTSTART:20260528T180000
TZNAME:CEST
TZOFFSETTO:+0200
TZOFFSETFROM:+0200
END:DAYLIGHT
END:VTIMEZONE
END:VCALENDAR
