BEGIN:VCALENDAR
PRODID:-//eluceo/ical//2.0/EN
VERSION:2.0
CALSCALE:GREGORIAN
BEGIN:VEVENT
UID:5bdbd7b0f7c47d93200731af9eb95222
DTSTAMP:20260423T131216Z
SUMMARY:Was macht alt RR Dr. E. Honegger heute ?
DESCRIPTION:Talare: Dr. E. Honegger
URL:https://rotary-forch.ch/sv/agenda/show/33048
DTSTART;TZID=Europe/Zurich:20131127T120000
DTEND;TZID=Europe/Zurich:20131127T120000
LOCATION:Restaurant Schifflände
CATEGORIES:Rotary
END:VEVENT
BEGIN:VTIMEZONE
TZID:Europe/Zurich
BEGIN:STANDARD
DTSTART:20131127T120000
TZNAME:CET
TZOFFSETTO:+0100
TZOFFSETFROM:+0100
END:STANDARD
END:VTIMEZONE
END:VCALENDAR
