BEGIN:VCALENDAR
PRODID:-//eluceo/ical//2.0/EN
VERSION:2.0
CALSCALE:GREGORIAN
BEGIN:VEVENT
UID:81d4ab4a8f9d7bc808d82863f29a4141
DTSTAMP:20260422T105029Z
SUMMARY:Plauderlunch 
DESCRIPTION:
URL:https://rotary-forch.ch/sv/agenda/show/64669
DTSTART;TZID=Europe/Zurich:20160907T120000
DTEND;TZID=Europe/Zurich:20160907T120000
LOCATION:Restaurant Schifflände
CATEGORIES:Rotary
END:VEVENT
BEGIN:VTIMEZONE
TZID:Europe/Zurich
BEGIN:DAYLIGHT
DTSTART:20160907T120000
TZNAME:CEST
TZOFFSETTO:+0200
TZOFFSETFROM:+0200
END:DAYLIGHT
END:VTIMEZONE
END:VCALENDAR
