BEGIN:VCALENDAR
PRODID:-//eluceo/ical//2.0/EN
VERSION:2.0
CALSCALE:GREGORIAN
BEGIN:VEVENT
UID:9e2538dd82d0a7c0e2afafa81bbb0eb3
DTSTAMP:20260420T195742Z
SUMMARY:Klassifikationsvortrag: Der Faktor Mensch
DESCRIPTION:\nDie neusten Trends bei den Top-Vektoren für die Auswahl der 
 Zielpersonen:\nE-Mails\, soziale Medien und mobile Apps.\nTalare: Stefan H
 ungerbühler\, Gast von Pierre Wüthrich und Kandidat als Mitglied für RC
  Forch.\n
URL:https://rotary-forch.ch/sv/agenda/show/65726
DTSTART;TZID=Europe/Zurich:20161026T120000
DTEND;TZID=Europe/Zurich:20161026T120000
LOCATION:Restaurant Schifflände
CATEGORIES:Rotary
END:VEVENT
BEGIN:VTIMEZONE
TZID:Europe/Zurich
BEGIN:DAYLIGHT
DTSTART:20161026T120000
TZNAME:CEST
TZOFFSETTO:+0200
TZOFFSETFROM:+0200
END:DAYLIGHT
END:VTIMEZONE
END:VCALENDAR
