BEGIN:VCALENDAR
PRODID:-//eluceo/ical//2.0/EN
VERSION:2.0
CALSCALE:GREGORIAN
BEGIN:VEVENT
UID:44a2fe4a87c01e95749f4a7e7bd97ecc
DTSTAMP:20260424T084925Z
SUMMARY:Kein Rotary Lunch\, fällt aus.
DESCRIPTION:
URL:https://rotary-forch.ch/sv/agenda/show/65729
DTSTART;TZID=Europe/Zurich:20161228T000000
DTEND;TZID=Europe/Zurich:20161228T000000
LOCATION:-
CATEGORIES:Rotary
END:VEVENT
BEGIN:VTIMEZONE
TZID:Europe/Zurich
BEGIN:STANDARD
DTSTART:20161228T000000
TZNAME:CET
TZOFFSETTO:+0100
TZOFFSETFROM:+0100
END:STANDARD
END:VTIMEZONE
END:VCALENDAR
